BEGIN:VCALENDAR
VERSION:2.0
PRODID:calendify.com
BEGIN:VEVENT
UID:calendify-session-RXEMX0mDMKy
DTSTART:20200202T095500Z
SEQUENCE:0
TRANSP:OPAQUE
DTEND:20200202T103000Z
URL:https://calendify.com/session/RXEMX0mDMKy
LOCATION:H.1308 (Rolin)
SUMMARY:What's new in Samba ?
CLASS:PUBLIC
DESCRIPTION:https://calendify.com/session/RXEMX0mDMKy
DTSTAMP:20260422T210309Z
CREATED:20200513T234731Z
LAST-MODIFIED:20210426T093308Z
END:VEVENT
END:VCALENDAR