BEGIN:VCALENDAR
VERSION:2.0
PRODID:calendify.com
BEGIN:VEVENT
UID:calendify-session-RXEMX0prMKy
DTSTART:20190419T170000Z
SEQUENCE:0
TRANSP:OPAQUE
DTEND:20190419T174500Z
URL:https://calendify.com/session/RXEMX0prMKy
LOCATION:EI 7
SUMMARY:Searchable Encryption Revisited – Searchitect
CLASS:PUBLIC
DESCRIPTION:https://calendify.com/session/RXEMX0prMKy
DTSTAMP:20260420T054902Z
CREATED:20200513T003629Z
LAST-MODIFIED:20200513T003629Z
END:VEVENT
END:VCALENDAR