BEGIN:VCALENDAR
VERSION:2.0
PRODID:calendify.com
BEGIN:VEVENT
UID:calendify-session-RXEMX1B8gKy
DTSTART:20231227T210000Z
SEQUENCE:0
TRANSP:OPAQUE
DTEND:20231227T215000Z
URL:https://calendify.com/session/RXEMX1B8gKy
LOCATION:Saal D
SUMMARY:Wondrous mathematics: How does artificial intelligence accomplish t
 he feat of learning?
CLASS:PUBLIC
DESCRIPTION:https://calendify.com/session/RXEMX1B8gKy
DTSTAMP:20260423T070025Z
CREATED:20231221T182736Z
LAST-MODIFIED:20240401T142932Z
END:VEVENT
END:VCALENDAR