BEGIN:VCALENDAR
VERSION:2.0
PRODID:calendify.com
BEGIN:VEVENT
UID:calendify-session-RXEMX1D2gKy
DTSTART:20240601T093000Z
SEQUENCE:0
TRANSP:OPAQUE
DTEND:20240601T103000Z
URL:https://calendify.com/session/RXEMX1D2gKy
LOCATION:HfG Raum 115
SUMMARY:clevis und tang\, automatisches Öffnen verschlüsselter Festplatte
 n
CLASS:PUBLIC
DESCRIPTION:https://calendify.com/session/RXEMX1D2gKy
DTSTAMP:20260422T124157Z
CREATED:20240531T122740Z
LAST-MODIFIED:20240602T132303Z
END:VEVENT
END:VCALENDAR