BEGIN:VCALENDAR
VERSION:2.0
PRODID:calendify.com
BEGIN:VEVENT
UID:calendify-session-RXEMX1N1gKy
DTSTART:20231228T221000Z
SEQUENCE:0
TRANSP:OPAQUE
DTEND:20231228T230000Z
URL:https://calendify.com/session/RXEMX1N1gKy
LOCATION:Quasiroom
SUMMARY:Wondrous mathematics: Exploring hypercomputation with the effective
  topos
CLASS:PUBLIC
DESCRIPTION:https://calendify.com/session/RXEMX1N1gKy
DTSTAMP:20260423T043855Z
CREATED:20231228T203003Z
LAST-MODIFIED:20240401T142932Z
END:VEVENT
END:VCALENDAR