BEGIN:VCALENDAR
VERSION:2.0
PRODID:calendify.com
BEGIN:VEVENT
UID:calendify-session-RXEMX1XagKy
DTSTART:20230902T120000Z
SEQUENCE:0
TRANSP:OPAQUE
DTEND:20230902T125000Z
URL:https://calendify.com/session/RXEMX1XagKy
LOCATION:C205 - Gehirnwäscher
SUMMARY:Vom ersten Nudge bis zur Verwirklichung - die Entstehung von VOLT P
 ower Cola ZERO
CLASS:PUBLIC
DESCRIPTION:https://calendify.com/session/RXEMX1XagKy
DTSTAMP:20260422T183054Z
CREATED:20240328T132702Z
LAST-MODIFIED:20240328T132702Z
END:VEVENT
END:VCALENDAR