BEGIN:VCALENDAR
VERSION:2.0
PRODID:calendify.com
BEGIN:VEVENT
UID:calendify-session-RXEMX1Z8gKy
DTSTART:20231229T140000Z
SEQUENCE:0
TRANSP:OPAQUE
DTEND:20231229T150000Z
URL:https://calendify.com/session/RXEMX1Z8gKy
LOCATION:Bits & Bäume Workshop Space
SUMMARY:Recent Attacks against Net Neutrality: Why Telcos never learn
CLASS:PUBLIC
DESCRIPTION:https://calendify.com/session/RXEMX1Z8gKy
DTSTAMP:20260423T122226Z
CREATED:20231224T230004Z
LAST-MODIFIED:20240401T142932Z
END:VEVENT
END:VCALENDAR