BEGIN:VCALENDAR
VERSION:2.0
PRODID:calendify.com
BEGIN:VEVENT
UID:calendify-session-RXEMX1aagKy
DTSTART:20240331T101500Z
SEQUENCE:0
TRANSP:OPAQUE
DTEND:20240331T111500Z
URL:https://calendify.com/session/RXEMX1aagKy
LOCATION:Walhacka - D002
SUMMARY:Textverarbeitung mit SIMD-Techniken
CLASS:PUBLIC
DESCRIPTION:https://calendify.com/session/RXEMX1aagKy
DTSTAMP:20260423T093915Z
CREATED:20240329T152817Z
LAST-MODIFIED:20240401T142841Z
END:VEVENT
END:VCALENDAR