BEGIN:VCALENDAR
VERSION:2.0
PRODID:calendify.com
BEGIN:VEVENT
UID:calendify-session-RXEMX1l3gKy
DTSTART:20231228T201500Z
SEQUENCE:0
TRANSP:OPAQUE
DTEND:20231228T204500Z
URL:https://calendify.com/session/RXEMX1l3gKy
LOCATION:Pseudoroom
SUMMARY:Easter Eggs in Liu Cixin's „Three-Body“ Trilogy
CLASS:PUBLIC
DESCRIPTION:https://calendify.com/session/RXEMX1l3gKy
DTSTAMP:20260423T020325Z
CREATED:20231226T092002Z
LAST-MODIFIED:20240401T142932Z
END:VEVENT
END:VCALENDAR