BEGIN:VCALENDAR
VERSION:2.0
PRODID:calendify.com
BEGIN:VEVENT
UID:calendify-session-RXEMX1mZgKy
DTSTART:20240331T090000Z
SEQUENCE:0
TRANSP:OPAQUE
DTEND:20240331T100000Z
URL:https://calendify.com/session/RXEMX1mZgKy
LOCATION:Bitmarckplatz - D003
SUMMARY:How to bike to Camp - Solo quer durch Deutschland
CLASS:PUBLIC
DESCRIPTION:https://calendify.com/session/RXEMX1mZgKy
DTSTAMP:20260423T231003Z
CREATED:20240328T125152Z
LAST-MODIFIED:20240401T142841Z
END:VEVENT
END:VCALENDAR