BEGIN:VCALENDAR
VERSION:2.0
PRODID:calendify.com
BEGIN:VEVENT
UID:calendify-session-RXEMX1n3gKy
DTSTART:20231230T120000Z
SEQUENCE:0
TRANSP:OPAQUE
DTEND:20231230T124000Z
URL:https://calendify.com/session/RXEMX1n3gKy
LOCATION:Saal E
SUMMARY:Buying and Selling Domain Names in Namecoin
CLASS:PUBLIC
DESCRIPTION:https://calendify.com/session/RXEMX1n3gKy
DTSTAMP:20260423T030905Z
CREATED:20231226T170003Z
LAST-MODIFIED:20240401T142934Z
END:VEVENT
END:VCALENDAR