BEGIN:VCALENDAR
VERSION:2.0
PRODID:calendify.com
BEGIN:VEVENT
UID:calendify-session-RXEMX1p5gKy
DTSTART:20231230T154000Z
SEQUENCE:0
TRANSP:OPAQUE
DTEND:20231230T162000Z
URL:https://calendify.com/session/RXEMX1p5gKy
LOCATION:Saal Zuse
SUMMARY:Vom Darkroom in die Blackbox
CLASS:PUBLIC
DESCRIPTION:https://calendify.com/session/RXEMX1p5gKy
DTSTAMP:20260424T000538Z
CREATED:20231215T204822Z
LAST-MODIFIED:20240401T142934Z
END:VEVENT
END:VCALENDAR