BEGIN:VCALENDAR
VERSION:2.0
PRODID:calendify.com
BEGIN:VEVENT
UID:calendify-session-RXEMX1xDgKy
DTSTART:20231228T130000Z
SEQUENCE:0
TRANSP:OPAQUE
DTEND:20231228T143000Z
URL:https://calendify.com/session/RXEMX1xDgKy
LOCATION:Saal D
SUMMARY:Arbeitsklima in der IT
CLASS:PUBLIC
DESCRIPTION:https://calendify.com/session/RXEMX1xDgKy
DTSTAMP:20260423T030900Z
CREATED:20231221T100104Z
LAST-MODIFIED:20240401T142932Z
END:VEVENT
END:VCALENDAR