BEGIN:VCALENDAR
VERSION:2.0
PRODID:calendify.com
BEGIN:VEVENT
UID:calendify-session-RXEMX881MKy
DTSTART:20210206T120000Z
SEQUENCE:0
TRANSP:OPAQUE
DTEND:20210206T123000Z
URL:https://calendify.com/session/RXEMX881MKy
LOCATION:D.distributions
SUMMARY:Homebrew: macOS Big Sur and ARM
CLASS:PUBLIC
DESCRIPTION:https://calendify.com/session/RXEMX881MKy
DTSTAMP:20260423T173353Z
CREATED:20210111T170318Z
LAST-MODIFIED:20210208T224802Z
END:VEVENT
END:VCALENDAR