BEGIN:VCALENDAR
VERSION:2.0
PRODID:calendify.com
BEGIN:VEVENT
UID:calendify-session-RXEMX89ZMKy
DTSTART:20210206T121000Z
SEQUENCE:0
TRANSP:OPAQUE
DTEND:20210206T122500Z
URL:https://calendify.com/session/RXEMX89ZMKy
LOCATION:D.research
SUMMARY:eLabFTW - the open source lab notebook
CLASS:PUBLIC
DESCRIPTION:https://calendify.com/session/RXEMX89ZMKy
DTSTAMP:20260423T161037Z
CREATED:20210111T170319Z
LAST-MODIFIED:20210208T224803Z
END:VEVENT
END:VCALENDAR