BEGIN:VCALENDAR
VERSION:2.0
PRODID:calendify.com
BEGIN:VEVENT
UID:calendify-session-RXEMX8G8MKy
DTSTART:20210206T160000Z
SEQUENCE:0
TRANSP:OPAQUE
DTEND:20210206T163000Z
URL:https://calendify.com/session/RXEMX8G8MKy
LOCATION:D.infra
SUMMARY:Desktop Linux Management at Facebook
CLASS:PUBLIC
DESCRIPTION:https://calendify.com/session/RXEMX8G8MKy
DTSTAMP:20260423T162208Z
CREATED:20210117T190818Z
LAST-MODIFIED:20210208T224802Z
END:VEVENT
END:VCALENDAR