BEGIN:VCALENDAR
VERSION:2.0
PRODID:calendify.com
BEGIN:VEVENT
UID:calendify-session-RXEMX8W1MKy
DTSTART:20210206T103000Z
SEQUENCE:0
TRANSP:OPAQUE
DTEND:20210206T110000Z
URL:https://calendify.com/session/RXEMX8W1MKy
LOCATION:D.hpc
SUMMARY:DiscoPoP: A tool to identify parallelization opportunities in seque
 ntial programs and suggest OpenMP constructs and clauses
CLASS:PUBLIC
DESCRIPTION:https://calendify.com/session/RXEMX8W1MKy
DTSTAMP:20260419T164712Z
CREATED:20210111T170318Z
LAST-MODIFIED:20210208T224802Z
END:VEVENT
END:VCALENDAR