BEGIN:VCALENDAR
VERSION:2.0
PRODID:calendify.com
BEGIN:VEVENT
UID:calendify-session-RXEMX8Z8MKy
DTSTART:20210207T130000Z
SEQUENCE:0
TRANSP:OPAQUE
DTEND:20210207T133000Z
URL:https://calendify.com/session/RXEMX8Z8MKy
LOCATION:D.python
SUMMARY:How Python inserts 'self' into methods
CLASS:PUBLIC
DESCRIPTION:https://calendify.com/session/RXEMX8Z8MKy
DTSTAMP:20260420T024609Z
CREATED:20210114T160028Z
LAST-MODIFIED:20210208T224804Z
END:VEVENT
END:VCALENDAR