BEGIN:VCALENDAR
VERSION:2.0
PRODID:calendify.com
BEGIN:VEVENT
UID:calendify-session-RXEMX8bZMKy
DTSTART:20210206T090000Z
SEQUENCE:0
TRANSP:OPAQUE
DTEND:20210206T090500Z
URL:https://calendify.com/session/RXEMX8bZMKy
LOCATION:D.network
SUMMARY:Let's find NeMo together
CLASS:PUBLIC
DESCRIPTION:https://calendify.com/session/RXEMX8bZMKy
DTSTAMP:20260422T110851Z
CREATED:20210111T170319Z
LAST-MODIFIED:20210208T224802Z
END:VEVENT
END:VCALENDAR