BEGIN:VCALENDAR
VERSION:2.0
PRODID:calendify.com
BEGIN:VEVENT
UID:calendify-session-RXEMX8j2MKy
DTSTART:20210207T150000Z
SEQUENCE:0
TRANSP:OPAQUE
DTEND:20210207T153000Z
URL:https://calendify.com/session/RXEMX8j2MKy
LOCATION:D.embedded
SUMMARY:Designing an open communication framework for the connected car
CLASS:PUBLIC
DESCRIPTION:https://calendify.com/session/RXEMX8j2MKy
DTSTAMP:20260419T235148Z
CREATED:20210111T170320Z
LAST-MODIFIED:20210208T224804Z
END:VEVENT
END:VCALENDAR