BEGIN:VCALENDAR
VERSION:2.0
PRODID:calendify.com
BEGIN:VEVENT
UID:calendify-session-RXEMX8kPMKy
DTSTART:20210207T142000Z
SEQUENCE:0
TRANSP:OPAQUE
DTEND:20210207T144000Z
URL:https://calendify.com/session/RXEMX8kPMKy
LOCATION:D.radio
SUMMARY:PySDR: A Guide to SDR and DSP using Python
CLASS:PUBLIC
DESCRIPTION:https://calendify.com/session/RXEMX8kPMKy
DTSTAMP:20260419T235148Z
CREATED:20210111T170320Z
LAST-MODIFIED:20210208T224804Z
END:VEVENT
END:VCALENDAR