BEGIN:VCALENDAR
VERSION:2.0
PRODID:calendify.com
BEGIN:VEVENT
UID:calendify-session-RXEMX8nvMKy
DTSTART:20210206T083000Z
SEQUENCE:0
TRANSP:OPAQUE
DTEND:20210206T090000Z
URL:https://calendify.com/session/RXEMX8nvMKy
LOCATION:S.mariadb
SUMMARY:Welcome to the stand for MariaDB Foundation
CLASS:PUBLIC
DESCRIPTION:https://calendify.com/session/RXEMX8nvMKy
DTSTAMP:20260424T015244Z
CREATED:20210125T190820Z
LAST-MODIFIED:20210208T224803Z
END:VEVENT
END:VCALENDAR