BEGIN:VCALENDAR
VERSION:2.0
PRODID:calendify.com
BEGIN:VEVENT
UID:calendify-session-RXEMX9A1gKy
DTSTART:20220724T110000Z
SEQUENCE:0
TRANSP:OPAQUE
DTEND:20220724T115000Z
URL:https://calendify.com/session/RXEMX9A1gKy
LOCATION:HSNL Village (Muze / NLnet tent)
SUMMARY:HSNL: Linked Data at Kadaster - Anjo Kolk\, Wouter Beek - Kadaster
CLASS:PUBLIC
DESCRIPTION:https://calendify.com/session/RXEMX9A1gKy
DTSTAMP:20260424T013931Z
CREATED:20220725T094113Z
LAST-MODIFIED:20220726T182703Z
END:VEVENT
END:VCALENDAR