BEGIN:VCALENDAR
VERSION:2.0
PRODID:calendify.com
BEGIN:VEVENT
UID:calendify-session-RXEMX9G1gKy
DTSTART:20230609T144500Z
SEQUENCE:0
TRANSP:OPAQUE
DTEND:20230609T154500Z
URL:https://calendify.com/session/RXEMX9G1gKy
LOCATION:Vortragssaal
SUMMARY:Rechnen Schlüsseln Authentifizieren
CLASS:PUBLIC
DESCRIPTION:https://calendify.com/session/RXEMX9G1gKy
DTSTAMP:20260424T133453Z
CREATED:20230527T091820Z
LAST-MODIFIED:20230611T215002Z
END:VEVENT
END:VCALENDAR