BEGIN:VCALENDAR
VERSION:2.0
PRODID:calendify.com
BEGIN:VEVENT
UID:calendify-session-RXEMX9NagKy
DTSTART:20230605T141500Z
SEQUENCE:0
TRANSP:OPAQUE
DTEND:20230605T144500Z
URL:https://calendify.com/session/RXEMX9NagKy
LOCATION:Stage 4
SUMMARY:Primer for the Age of Polygenic Screening\, Present and Future
CLASS:PUBLIC
DESCRIPTION:https://calendify.com/session/RXEMX9NagKy
DTSTAMP:20260423T065305Z
CREATED:20230604T163759Z
LAST-MODIFIED:20230606T124205Z
END:VEVENT
END:VCALENDAR