BEGIN:VCALENDAR
VERSION:2.0
PRODID:calendify.com
BEGIN:VEVENT
UID:calendify-session-RXEMX9WPgKy
DTSTART:20221229T160000Z
SEQUENCE:0
TRANSP:OPAQUE
DTEND:20221229T163000Z
URL:https://calendify.com/session/RXEMX9WPgKy
LOCATION:Bühne
SUMMARY:Sprite\, Cola und Mate - aber selbstgemacht!
CLASS:PUBLIC
DESCRIPTION:https://calendify.com/session/RXEMX9WPgKy
DTSTAMP:20260423T115822Z
CREATED:20221221T105332Z
LAST-MODIFIED:20221230T225005Z
END:VEVENT
END:VCALENDAR