BEGIN:VCALENDAR
VERSION:2.0
PRODID:calendify.com
BEGIN:VEVENT
UID:calendify-session-RXEMX9m2gKy
DTSTART:20230605T114500Z
SEQUENCE:0
TRANSP:OPAQUE
DTEND:20230605T124500Z
URL:https://calendify.com/session/RXEMX9m2gKy
LOCATION:ARD Perspective Lab
SUMMARY:Abhängig von Meta und Co.? // Chancen und Gefahren für den öffen
 tlich-rechtlichen Rundfunk auf Drittplattformen
CLASS:PUBLIC
DESCRIPTION:https://calendify.com/session/RXEMX9m2gKy
DTSTAMP:20260420T001100Z
CREATED:20230604T163801Z
LAST-MODIFIED:20230606T124205Z
END:VEVENT
END:VCALENDAR