BEGIN:VCALENDAR
VERSION:2.0
PRODID:calendify.com
BEGIN:VEVENT
UID:calendify-session-RXEMX9n1gKy
DTSTART:20230611T080000Z
SEQUENCE:0
TRANSP:OPAQUE
DTEND:20230611T083000Z
URL:https://calendify.com/session/RXEMX9n1gKy
LOCATION:Medientheater
SUMMARY:Wir bauen uns eine Primzahlenerkennungsmaschine
CLASS:PUBLIC
DESCRIPTION:https://calendify.com/session/RXEMX9n1gKy
DTSTAMP:20260422T154903Z
CREATED:20230527T091822Z
LAST-MODIFIED:20230611T215002Z
END:VEVENT
END:VCALENDAR