BEGIN:VCALENDAR
VERSION:2.0
PRODID:calendify.com
BEGIN:VEVENT
UID:calendify-session-RXEMX9rrgKy
DTSTART:20220722T070000Z
SEQUENCE:0
TRANSP:OPAQUE
DTEND:20220722T140000Z
URL:https://calendify.com/session/RXEMX9rrgKy
LOCATION:Music Stage 🎤
SUMMARY:DIY on the music stage
CLASS:PUBLIC
DESCRIPTION:https://calendify.com/session/RXEMX9rrgKy
DTSTAMP:20260422T153134Z
CREATED:20220723T101231Z
LAST-MODIFIED:20220726T182703Z
END:VEVENT
END:VCALENDAR