BEGIN:VCALENDAR
VERSION:2.0
PRODID:calendify.com
BEGIN:VEVENT
UID:calendify-session-RXEMXE83gKy
DTSTART:20241227T220000Z
SEQUENCE:0
TRANSP:OPAQUE
DTEND:20241227T230000Z
URL:https://calendify.com/session/RXEMXE83gKy
LOCATION:Saal GLITCH
SUMMARY:IRIS: Non-Destructive Inspection of Silicon
CLASS:PUBLIC
DESCRIPTION:https://calendify.com/session/RXEMXE83gKy
DTSTAMP:20260422T005225Z
CREATED:20241208T214807Z
LAST-MODIFIED:20250101T225002Z
END:VEVENT
END:VCALENDAR