BEGIN:VCALENDAR
VERSION:2.0
PRODID:calendify.com
BEGIN:VEVENT
UID:calendify-session-RXEMXEDZgKy
DTSTART:20241227T183000Z
SEQUENCE:0
TRANSP:OPAQUE
DTEND:20241227T200000Z
URL:https://calendify.com/session/RXEMXEDZgKy
LOCATION:SoS Saal E
SUMMARY:Queer Meet Up
CLASS:PUBLIC
DESCRIPTION:https://calendify.com/session/RXEMXEDZgKy
DTSTAMP:20260424T112928Z
CREATED:20241227T141458Z
LAST-MODIFIED:20250101T225002Z
END:VEVENT
END:VCALENDAR