BEGIN:VCALENDAR
VERSION:2.0
PRODID:calendify.com
BEGIN:VEVENT
UID:calendify-session-RXEMXER1gKy
DTSTART:20240921T143000Z
SEQUENCE:0
TRANSP:OPAQUE
DTEND:20240921T151500Z
URL:https://calendify.com/session/RXEMXER1gKy
LOCATION:Kabinett
SUMMARY:GNU Taler: Event- und Regionalwährungen mit Freier Software und Pr
 ivacy
CLASS:PUBLIC
DESCRIPTION:https://calendify.com/session/RXEMXER1gKy
DTSTAMP:20260422T153250Z
CREATED:20241208T220338Z
LAST-MODIFIED:20241208T220338Z
END:VEVENT
END:VCALENDAR