BEGIN:VCALENDAR
VERSION:2.0
PRODID:calendify.com
BEGIN:VEVENT
UID:calendify-session-RXEMXEW3gKy
DTSTART:20241229T181500Z
SEQUENCE:0
TRANSP:OPAQUE
DTEND:20241229T185500Z
URL:https://calendify.com/session/RXEMXEW3gKy
LOCATION:Saal 1
SUMMARY:Knäste hacken
CLASS:PUBLIC
DESCRIPTION:https://calendify.com/session/RXEMXEW3gKy
DTSTAMP:20260424T015430Z
CREATED:20241208T214808Z
LAST-MODIFIED:20250101T225003Z
END:VEVENT
END:VCALENDAR