BEGIN:VCALENDAR
VERSION:2.0
PRODID:calendify.com
BEGIN:VEVENT
UID:calendify-session-RXEMXR9v4Ky
DTSTART:20241229T100000Z
SEQUENCE:0
TRANSP:OPAQUE
DTEND:20241229T120000Z
URL:https://calendify.com/session/RXEMXR9v4Ky
LOCATION:Hardware Hacking Area -- Lower
SUMMARY:Drop‐In IoT Cat Lamp Soldering (Day 3)
CLASS:PUBLIC
DESCRIPTION:https://calendify.com/session/RXEMXR9v4Ky
DTSTAMP:20260419T133757Z
CREATED:20241227T141515Z
LAST-MODIFIED:20251019T194651Z
END:VEVENT
END:VCALENDAR