BEGIN:VCALENDAR
VERSION:2.0
PRODID:calendify.com
BEGIN:VEVENT
UID:calendify-session-RXEMXREv4Ky
DTSTART:20241230T100000Z
SEQUENCE:0
TRANSP:OPAQUE
DTEND:20241230T110000Z
URL:https://calendify.com/session/RXEMXREv4Ky
LOCATION:Saal A - Lötstationen Station 1
SUMMARY:Rockets löten
CLASS:PUBLIC
DESCRIPTION:https://calendify.com/session/RXEMXREv4Ky
DTSTAMP:20260423T163225Z
CREATED:20241227T141516Z
LAST-MODIFIED:20250101T225004Z
END:VEVENT
END:VCALENDAR