BEGIN:VCALENDAR
VERSION:2.0
PRODID:calendify.com
BEGIN:VEVENT
UID:calendify-session-RXEMXW1rOKy
DTSTART:20210318T133000Z
SEQUENCE:0
TRANSP:OPAQUE
DTEND:20210318T143000Z
URL:https://calendify.com/session/RXEMXW1rOKy
LOCATION:Zoom Room 5A
SUMMARY:No more robots and glowing brains - making better stock photos for 
 AI
CLASS:PUBLIC
DESCRIPTION:https://calendify.com/session/RXEMXW1rOKy
DTSTAMP:20260422T180325Z
CREATED:20210426T094929Z
LAST-MODIFIED:20210426T094929Z
END:VEVENT
END:VCALENDAR