BEGIN:VCALENDAR
VERSION:2.0
PRODID:calendify.com
BEGIN:VEVENT
UID:calendify-session-RXEMXW8vOKy
DTSTART:20210314T181500Z
SEQUENCE:0
TRANSP:OPAQUE
DTEND:20210314T191500Z
URL:https://calendify.com/session/RXEMXW8vOKy
LOCATION:Zoom Room 3B
SUMMARY:0.0146 seconds | Live Interaction
CLASS:PUBLIC
DESCRIPTION:https://calendify.com/session/RXEMXW8vOKy
DTSTAMP:20260423T094640Z
CREATED:20210426T094928Z
LAST-MODIFIED:20210426T094928Z
END:VEVENT
END:VCALENDAR