BEGIN:VCALENDAR
VERSION:2.0
PRODID:calendify.com
BEGIN:VEVENT
UID:calendify-session-RXEMXWADOKy
DTSTART:20210421T213000Z
SEQUENCE:0
TRANSP:OPAQUE
DTEND:20210421T223000Z
URL:https://calendify.com/session/RXEMXWADOKy
LOCATION:Zoom Room 1A
SUMMARY:Why We Should Care: Technology and the Black Community
CLASS:PUBLIC
DESCRIPTION:https://calendify.com/session/RXEMXWADOKy
DTSTAMP:20260425T002453Z
CREATED:20210426T094606Z
LAST-MODIFIED:20210426T094931Z
END:VEVENT
END:VCALENDAR