BEGIN:VCALENDAR
VERSION:2.0
PRODID:calendify.com
BEGIN:VEVENT
UID:calendify-session-RXEMXWJrOKy
DTSTART:20220205T110000Z
SEQUENCE:0
TRANSP:OPAQUE
DTEND:20220205T122500Z
URL:https://calendify.com/session/RXEMXWJrOKy
LOCATION:D.retro
SUMMARY:A Computer Museum
CLASS:PUBLIC
DESCRIPTION:https://calendify.com/session/RXEMXWJrOKy
DTSTAMP:20260420T092227Z
CREATED:20220120T214604Z
LAST-MODIFIED:20220206T225003Z
END:VEVENT
END:VCALENDAR