BEGIN:VCALENDAR
VERSION:2.0
PRODID:calendify.com
BEGIN:VEVENT
UID:calendify-session-RXEMXWQrOKy
DTSTART:20220205T145000Z
SEQUENCE:0
TRANSP:OPAQUE
DTEND:20220205T151000Z
URL:https://calendify.com/session/RXEMXWQrOKy
LOCATION:D.research
SUMMARY:Ontology Development Kit
CLASS:PUBLIC
DESCRIPTION:https://calendify.com/session/RXEMXWQrOKy
DTSTAMP:20260420T173605Z
CREATED:20220120T214603Z
LAST-MODIFIED:20220206T225003Z
END:VEVENT
END:VCALENDAR