BEGIN:VCALENDAR
VERSION:2.0
PRODID:calendify.com
BEGIN:VEVENT
UID:calendify-session-RXEMXWV8OKy
DTSTART:20211228T011000Z
SEQUENCE:0
TRANSP:OPAQUE
DTEND:20211228T023700Z
URL:https://calendify.com/session/RXEMXWV8OKy
LOCATION:rC3 Lounge
SUMMARY:neokay
CLASS:PUBLIC
DESCRIPTION:https://calendify.com/session/RXEMXWV8OKy
DTSTAMP:20260420T140452Z
CREATED:20211226T205000Z
LAST-MODIFIED:20211230T225002Z
END:VEVENT
END:VCALENDAR