BEGIN:VCALENDAR
VERSION:2.0
PRODID:calendify.com
BEGIN:VEVENT
UID:calendify-session-RXEMXWX3OKy
DTSTART:20220205T163500Z
SEQUENCE:0
TRANSP:OPAQUE
DTEND:20220205T170000Z
URL:https://calendify.com/session/RXEMXWX3OKy
LOCATION:D.mariadb
SUMMARY:The future of databases is confidential
CLASS:PUBLIC
DESCRIPTION:https://calendify.com/session/RXEMXWX3OKy
DTSTAMP:20260420T092526Z
CREATED:20220120T214603Z
LAST-MODIFIED:20220206T225002Z
END:VEVENT
END:VCALENDAR