BEGIN:VCALENDAR
VERSION:2.0
PRODID:calendify.com
BEGIN:VEVENT
UID:calendify-session-RXEMXWarOKy
DTSTART:20220205T160500Z
SEQUENCE:0
TRANSP:OPAQUE
DTEND:20220205T170000Z
URL:https://calendify.com/session/RXEMXWarOKy
LOCATION:D.microkernel
SUMMARY:Unhackable across 30 Years\, End in Sight
CLASS:PUBLIC
DESCRIPTION:https://calendify.com/session/RXEMXWarOKy
DTSTAMP:20260422T123357Z
CREATED:20220120T214603Z
LAST-MODIFIED:20220206T225002Z
END:VEVENT
END:VCALENDAR