BEGIN:VCALENDAR
VERSION:2.0
PRODID:calendify.com
BEGIN:VEVENT
UID:calendify-session-RXEMXWkZOKy
DTSTART:20210520T152000Z
SEQUENCE:0
TRANSP:OPAQUE
DTEND:20210520T152100Z
URL:https://calendify.com/session/RXEMXWkZOKy
LOCATION:Kanal 1
SUMMARY:Deine Minute Pause in der Bar
CLASS:PUBLIC
DESCRIPTION:https://calendify.com/session/RXEMXWkZOKy
DTSTAMP:20260423T032816Z
CREATED:20210515T220102Z
LAST-MODIFIED:20210524T215002Z
END:VEVENT
END:VCALENDAR