BEGIN:VCALENDAR
VERSION:2.0
PRODID:calendify.com
BEGIN:VEVENT
UID:calendify-session-RXEMXWkaOKy
DTSTART:20210520T144000Z
SEQUENCE:0
TRANSP:OPAQUE
DTEND:20210520T150000Z
URL:https://calendify.com/session/RXEMXWkaOKy
LOCATION:Kanal 2
SUMMARY:Power\, Data and Cities Reimagined
CLASS:PUBLIC
DESCRIPTION:https://calendify.com/session/RXEMXWkaOKy
DTSTAMP:20260420T184757Z
CREATED:20210518T200102Z
LAST-MODIFIED:20210524T215002Z
END:VEVENT
END:VCALENDAR