BEGIN:VCALENDAR
VERSION:2.0
PRODID:calendify.com
BEGIN:VEVENT
UID:calendify-session-RXEMXWm3OKy
DTSTART:20220205T111500Z
SEQUENCE:0
TRANSP:OPAQUE
DTEND:20220205T113000Z
URL:https://calendify.com/session/RXEMXWm3OKy
LOCATION:D.javascript
SUMMARY:JavaScript welcome session - day #1
CLASS:PUBLIC
DESCRIPTION:https://calendify.com/session/RXEMXWm3OKy
DTSTAMP:20260423T162407Z
CREATED:20220120T214602Z
LAST-MODIFIED:20220206T225002Z
END:VEVENT
END:VCALENDAR