BEGIN:VCALENDAR
VERSION:2.0
PRODID:calendify.com
BEGIN:VEVENT
UID:calendify-session-RXEMXb184Ky
DTSTART:20161228T204500Z
SEQUENCE:0
TRANSP:OPAQUE
DTEND:20161228T214500Z
URL:https://calendify.com/session/RXEMXb184Ky
LOCATION:Saal G
SUMMARY:Intercoms Hacking
CLASS:PUBLIC
DESCRIPTION:https://calendify.com/session/RXEMXb184Ky
DTSTAMP:20260419T192432Z
CREATED:20220415T135303Z
LAST-MODIFIED:20220415T135303Z
END:VEVENT
END:VCALENDAR