BEGIN:VCALENDAR
VERSION:2.0
PRODID:calendify.com
BEGIN:VEVENT
UID:calendify-session-RXEMXb1v4Ky
DTSTART:20161228T220000Z
SEQUENCE:0
TRANSP:OPAQUE
DTEND:20161228T230000Z
URL:https://calendify.com/session/RXEMXb1v4Ky
LOCATION:Saal 6
SUMMARY:Code BROWN in the Air
CLASS:PUBLIC
DESCRIPTION:https://calendify.com/session/RXEMXb1v4Ky
DTSTAMP:20260422T110822Z
CREATED:20220415T135303Z
LAST-MODIFIED:20220415T135303Z
END:VEVENT
END:VCALENDAR