BEGIN:VCALENDAR
VERSION:2.0
PRODID:calendify.com
BEGIN:VEVENT
UID:calendify-session-RXEMXb354Ky
DTSTART:20220610T123000Z
SEQUENCE:0
TRANSP:OPAQUE
DTEND:20220610T130000Z
URL:https://calendify.com/session/RXEMXb354Ky
LOCATION:Stage 1
SUMMARY:Bienchen und Blümchen: Warum der Arten-Schwund so herbe nervt
CLASS:PUBLIC
DESCRIPTION:https://calendify.com/session/RXEMXb354Ky
DTSTAMP:20260424T013520Z
CREATED:20220526T162948Z
LAST-MODIFIED:20220613T235204Z
END:VEVENT
END:VCALENDAR