BEGIN:VCALENDAR
VERSION:2.0
PRODID:calendify.com
BEGIN:VEVENT
UID:calendify-session-RXEMXb3D4Ky
DTSTART:20220608T160000Z
SEQUENCE:0
TRANSP:OPAQUE
DTEND:20220608T170000Z
URL:https://calendify.com/session/RXEMXb3D4Ky
LOCATION:Meetup Red
SUMMARY:Data Power! Citizen-generated data to reduce inequalities
CLASS:PUBLIC
DESCRIPTION:https://calendify.com/session/RXEMXb3D4Ky
DTSTAMP:20260423T160041Z
CREATED:20220526T162948Z
LAST-MODIFIED:20220613T235204Z
END:VEVENT
END:VCALENDAR